BEGIN:VCALENDAR
VERSION:2.0
PRODID:-//Ashby Canal Association - ECPv6.15.20//NONSGML v1.0//EN
CALSCALE:GREGORIAN
METHOD:PUBLISH
X-ORIGINAL-URL:https://ashbycanal.org.uk
X-WR-CALDESC:Events for Ashby Canal Association
REFRESH-INTERVAL;VALUE=DURATION:PT1H
X-Robots-Tag:noindex
X-PUBLISHED-TTL:PT1H
BEGIN:VTIMEZONE
TZID:Europe/London
BEGIN:DAYLIGHT
TZOFFSETFROM:+0000
TZOFFSETTO:+0100
TZNAME:BST
DTSTART:20220327T010000
END:DAYLIGHT
BEGIN:STANDARD
TZOFFSETFROM:+0100
TZOFFSETTO:+0000
TZNAME:GMT
DTSTART:20221030T010000
END:STANDARD
BEGIN:DAYLIGHT
TZOFFSETFROM:+0000
TZOFFSETTO:+0100
TZNAME:BST
DTSTART:20230326T010000
END:DAYLIGHT
BEGIN:STANDARD
TZOFFSETFROM:+0100
TZOFFSETTO:+0000
TZNAME:GMT
DTSTART:20231029T010000
END:STANDARD
BEGIN:DAYLIGHT
TZOFFSETFROM:+0000
TZOFFSETTO:+0100
TZNAME:BST
DTSTART:20240331T010000
END:DAYLIGHT
BEGIN:STANDARD
TZOFFSETFROM:+0100
TZOFFSETTO:+0000
TZNAME:GMT
DTSTART:20241027T010000
END:STANDARD
END:VTIMEZONE
BEGIN:VEVENT
DTSTART;TZID=Europe/London:20230124T190000
DTEND;TZID=Europe/London:20230124T190000
DTSTAMP:20260425T224006
CREATED:20221120T181113Z
LAST-MODIFIED:20230219T134626Z
UID:2493-1674586800-1674586800@ashbycanal.org.uk
SUMMARY:ACA Social Evening - A Presentation by the National Forest
DESCRIPTION:An illustrated presentation by the National Forest’s Director\, Louise Driver. \n\n\n\n\n\n\n\nThe extent of the National Forest and it’s history to date through to the present and future strategy. \n\n\n\n\n\n\n\nLicenced bar and ample parking available. \n\n\n\n\n\n\n\n7:00pm for a 7:30pm start
URL:https://ashbycanal.org.uk/event/aca-social-evening-presentation-by-the-national-forest/
LOCATION:Measham Leisure Centre\, 22 High Street\, Measham\, DE12 7HR
END:VEVENT
END:VCALENDAR