BEGIN:VCALENDAR
VERSION:2.0
PRODID:-//Ashby Canal Association - ECPv6.15.20//NONSGML v1.0//EN
CALSCALE:GREGORIAN
METHOD:PUBLISH
X-WR-CALNAME:Ashby Canal Association
X-ORIGINAL-URL:https://ashbycanal.org.uk
X-WR-CALDESC:Events for Ashby Canal Association
REFRESH-INTERVAL;VALUE=DURATION:PT1H
X-Robots-Tag:noindex
X-PUBLISHED-TTL:PT1H
BEGIN:VTIMEZONE
TZID:Europe/London
BEGIN:DAYLIGHT
TZOFFSETFROM:+0000
TZOFFSETTO:+0100
TZNAME:BST
DTSTART:20210328T010000
END:DAYLIGHT
BEGIN:STANDARD
TZOFFSETFROM:+0100
TZOFFSETTO:+0000
TZNAME:GMT
DTSTART:20211031T010000
END:STANDARD
BEGIN:DAYLIGHT
TZOFFSETFROM:+0000
TZOFFSETTO:+0100
TZNAME:BST
DTSTART:20220327T010000
END:DAYLIGHT
BEGIN:STANDARD
TZOFFSETFROM:+0100
TZOFFSETTO:+0000
TZNAME:GMT
DTSTART:20221030T010000
END:STANDARD
BEGIN:DAYLIGHT
TZOFFSETFROM:+0000
TZOFFSETTO:+0100
TZNAME:BST
DTSTART:20230326T010000
END:DAYLIGHT
BEGIN:STANDARD
TZOFFSETFROM:+0100
TZOFFSETTO:+0000
TZNAME:GMT
DTSTART:20231029T010000
END:STANDARD
END:VTIMEZONE
BEGIN:VEVENT
DTSTART;TZID=Europe/London:20221013T193000
DTEND;TZID=Europe/London:20221013T193000
DTSTAMP:20260426T030530
CREATED:20220827T010556Z
LAST-MODIFIED:20220912T104922Z
UID:2386-1665689400-1665689400@ashbycanal.org.uk
SUMMARY:ACA Social Evening - A presentation about Joseph Wilkes
DESCRIPTION:An illustrated presentation on the life of Joseph Wilkes. \n\n\n\nNot just about his promotion of the Ashby Canal but also his business interests\, influence and input into the local area. \n\n\n\nThis will be a fascinating presentation given by June Bird who is a direct descendant of Joseph Wilkes and has extensively researched her subject in detail. \n\n\n\nAdmission is free and there will be refreshments and ample parking space.
URL:https://ashbycanal.org.uk/event/aca-social-evening-a-presentation-about-joseph-wilkes/
LOCATION:Measham Leisure Centre\, 22 High Street\, Measham\, DE12 7HR
END:VEVENT
END:VCALENDAR