BEGIN:VCALENDAR
VERSION:2.0
PRODID:-//Ashby Canal Association - ECPv6.15.20//NONSGML v1.0//EN
CALSCALE:GREGORIAN
METHOD:PUBLISH
X-WR-CALNAME:Ashby Canal Association
X-ORIGINAL-URL:https://ashbycanal.org.uk
X-WR-CALDESC:Events for Ashby Canal Association
REFRESH-INTERVAL;VALUE=DURATION:PT1H
X-Robots-Tag:noindex
X-PUBLISHED-TTL:PT1H
BEGIN:VTIMEZONE
TZID:Europe/London
BEGIN:DAYLIGHT
TZOFFSETFROM:+0000
TZOFFSETTO:+0100
TZNAME:BST
DTSTART:20210328T010000
END:DAYLIGHT
BEGIN:STANDARD
TZOFFSETFROM:+0100
TZOFFSETTO:+0000
TZNAME:GMT
DTSTART:20211031T010000
END:STANDARD
BEGIN:DAYLIGHT
TZOFFSETFROM:+0000
TZOFFSETTO:+0100
TZNAME:BST
DTSTART:20220327T010000
END:DAYLIGHT
BEGIN:STANDARD
TZOFFSETFROM:+0100
TZOFFSETTO:+0000
TZNAME:GMT
DTSTART:20221030T010000
END:STANDARD
BEGIN:DAYLIGHT
TZOFFSETFROM:+0000
TZOFFSETTO:+0100
TZNAME:BST
DTSTART:20230326T010000
END:DAYLIGHT
BEGIN:STANDARD
TZOFFSETFROM:+0100
TZOFFSETTO:+0000
TZNAME:GMT
DTSTART:20231029T010000
END:STANDARD
END:VTIMEZONE
BEGIN:VEVENT
DTSTART;TZID=Europe/London:20220908T101500
DTEND;TZID=Europe/London:20220908T101500
DTSTAMP:20260425T044539
CREATED:20220829T111636Z
LAST-MODIFIED:20220829T112215Z
UID:2419-1662632100-1662632100@ashbycanal.org.uk
SUMMARY:IWA Guided walk: Ashby Canal Path – Snarestone and Measham
DESCRIPTION:Join the IWA Lichfield Branch for an easy 5½ mile walk with 3 stiles along footpaths\, some rough ground\, and on a pavement. The Canal Path is signposted throughout with a series of black and white signposts\, which indicate the route of the canal restoration. \n\n\n\n\n\n\n\nWe leave the car park by a sports field and pick up the towpath of the Ashby Canal at the northern portal of Snarestone tunnel. We follow the towpath to its terminus by bridge 62\, from where we walk over rough ground towards Ilott Wharf. Here we cross a series of fields before entering the outskirts of Measham. On reaching the High Street we turn left to arrive at Measham Museum\, formerly a train station on the Ashby & Nuneaton Joint Railway. Here we follow the line of the former railway for a while. At Measham Lodge we cross the road and follow the infilled line of the canal to Ilott Wharf\, and from there back along the towpath to our starting point.
URL:https://ashbycanal.org.uk/event/iwa-guided-walk-ashby-canal-path-snarestone-and-measham/
LOCATION:The Globe Inn\, 4 Main St\, Snarestone\, DE12 7DB
END:VEVENT
BEGIN:VEVENT
DTSTART;TZID=Europe/London:20220829T100000
DTEND;TZID=Europe/London:20220829T170000
DTSTAMP:20260425T044539
CREATED:20220827T033435Z
LAST-MODIFIED:20220828T081716Z
UID:2398-1661767200-1661792400@ashbycanal.org.uk
SUMMARY:IWA Festival of Water 2022 – Day 3/3
DESCRIPTION:Join us at IWA Festival of Water on the Trent & Mersey Canal in Burton Upon Trent for a bank holiday weekend of fun for all who love spending time by the water.
URL:https://ashbycanal.org.uk/event/iwa-festival-of-water-2022-day-3-3/
LOCATION:Shobnall Fields\, Shobnall Road\, Burton-upon-Trent\, DE14 2BB
END:VEVENT
BEGIN:VEVENT
DTSTART;TZID=Europe/London:20220828T100000
DTEND;TZID=Europe/London:20220828T180000
DTSTAMP:20260425T044539
CREATED:20220827T033222Z
LAST-MODIFIED:20220828T081651Z
UID:2396-1661680800-1661709600@ashbycanal.org.uk
SUMMARY:IWA Festival of Water 2022 – Day 2/3
DESCRIPTION:Join us at IWA Festival of Water on the Trent & Mersey Canal in Burton Upon Trent for a bank holiday weekend of fun for all who love spending time by the water.
URL:https://ashbycanal.org.uk/event/iwa-festival-of-water-2022-day-2-3/
LOCATION:Shobnall Fields\, Shobnall Road\, Burton-upon-Trent\, DE14 2BB
END:VEVENT
BEGIN:VEVENT
DTSTART;TZID=Europe/London:20220827T100000
DTEND;TZID=Europe/London:20220827T180000
DTSTAMP:20260425T044539
CREATED:20220827T003921Z
LAST-MODIFIED:20220828T034632Z
UID:2375-1661594400-1661623200@ashbycanal.org.uk
SUMMARY:IWA Festival of Water 2022 - Day 1/3
DESCRIPTION:Join us at IWA Festival of Water on the Trent & Mersey Canal in Burton Upon Trent for a bank holiday weekend of fun for all who love spending time by the water.
URL:https://ashbycanal.org.uk/event/iwa-festival-of-water-2022/
LOCATION:Shobnall Fields\, Shobnall Road\, Burton-upon-Trent\, DE14 2BB
END:VEVENT
END:VCALENDAR